BEGIN:VCALENDAR
VERSION:2.0
PRODID:-//Vanquish - ECPv6.15.20//NONSGML v1.0//EN
CALSCALE:GREGORIAN
METHOD:PUBLISH
X-ORIGINAL-URL:https://vanquishguild.org
X-WR-CALDESC:Events for Vanquish
REFRESH-INTERVAL;VALUE=DURATION:PT1H
X-Robots-Tag:noindex
X-PUBLISHED-TTL:PT1H
BEGIN:VTIMEZONE
TZID:America/New_York
BEGIN:DAYLIGHT
TZOFFSETFROM:-0500
TZOFFSETTO:-0400
TZNAME:EDT
DTSTART:20250309T070000
END:DAYLIGHT
BEGIN:STANDARD
TZOFFSETFROM:-0400
TZOFFSETTO:-0500
TZNAME:EST
DTSTART:20251102T060000
END:STANDARD
BEGIN:DAYLIGHT
TZOFFSETFROM:-0500
TZOFFSETTO:-0400
TZNAME:EDT
DTSTART:20260308T070000
END:DAYLIGHT
BEGIN:STANDARD
TZOFFSETFROM:-0400
TZOFFSETTO:-0500
TZNAME:EST
DTSTART:20261101T060000
END:STANDARD
BEGIN:DAYLIGHT
TZOFFSETFROM:-0500
TZOFFSETTO:-0400
TZNAME:EDT
DTSTART:20270314T070000
END:DAYLIGHT
BEGIN:STANDARD
TZOFFSETFROM:-0400
TZOFFSETTO:-0500
TZNAME:EST
DTSTART:20271107T060000
END:STANDARD
END:VTIMEZONE
BEGIN:VEVENT
DTSTART;TZID=America/New_York:20260329T160000
DTEND;TZID=America/New_York:20260329T173000
DTSTAMP:20260423T152635
CREATED:20260316T233321Z
LAST-MODIFIED:20260316T233410Z
UID:10003550-1774800000-1774805400@vanquishguild.org
SUMMARY:Tank Talk
DESCRIPTION:Topics ranging from beginning to advanced raid tanking. For those curious about building a tank\, as well as those current tanks wanting to know what sets they should use in vet trials and everyone in between”  \n\n\n\nLocation: The guild house (@vanquishguild) primary home.  Or click G for guild info\, at the bottom of “about us” you will find the yellow link that will teleport you directly there. \n\n\n\nSign-ups are not necessary for this event.  Join Kildaan at the Guild Hall and in discord.
URL:https://vanquishguild.org/event/tank-talk/
CATEGORIES:Meeting,Special Event
ATTACH;FMTTYPE=image/jpeg:https://vanquishguild.org/wp-content/uploads/2026/03/bugs_knight-e1773703835730.jpg
END:VEVENT
END:VCALENDAR