BEGIN:VCALENDAR
VERSION:2.0
PRODID:-//Vanquish - ECPv6.15.20//NONSGML v1.0//EN
CALSCALE:GREGORIAN
METHOD:PUBLISH
X-WR-CALNAME:Vanquish
X-ORIGINAL-URL:https://vanquishguild.org
X-WR-CALDESC:Events for Vanquish
REFRESH-INTERVAL;VALUE=DURATION:PT1H
X-Robots-Tag:noindex
X-PUBLISHED-TTL:PT1H
BEGIN:VTIMEZONE
TZID:America/New_York
BEGIN:DAYLIGHT
TZOFFSETFROM:-0500
TZOFFSETTO:-0400
TZNAME:EDT
DTSTART:20250309T070000
END:DAYLIGHT
BEGIN:STANDARD
TZOFFSETFROM:-0400
TZOFFSETTO:-0500
TZNAME:EST
DTSTART:20251102T060000
END:STANDARD
BEGIN:DAYLIGHT
TZOFFSETFROM:-0500
TZOFFSETTO:-0400
TZNAME:EDT
DTSTART:20260308T070000
END:DAYLIGHT
BEGIN:STANDARD
TZOFFSETFROM:-0400
TZOFFSETTO:-0500
TZNAME:EST
DTSTART:20261101T060000
END:STANDARD
BEGIN:DAYLIGHT
TZOFFSETFROM:-0500
TZOFFSETTO:-0400
TZNAME:EDT
DTSTART:20270314T070000
END:DAYLIGHT
BEGIN:STANDARD
TZOFFSETFROM:-0400
TZOFFSETTO:-0500
TZNAME:EST
DTSTART:20271107T060000
END:STANDARD
END:VTIMEZONE
BEGIN:VEVENT
DTSTART;TZID=America/New_York:20260429T210000
DTEND;TZID=America/New_York:20260429T230000
DTSTAMP:20260423T135051
CREATED:20260129T010129Z
LAST-MODIFIED:20260129T010132Z
UID:10001234-1777496400-1777503600@vanquishguild.org
SUMMARY:WARZONE Wednesday
DESCRIPTION:BACK ON WEDNESDAY! \n\n\n\nThis is the PvP event you’ve all be lusting after. Semi-serious\, somewhat organized\, guild group PvP. \n\n\n\nRead the requirements located at the link below before signing up and/or showing up. \n\n\n\nREQUIREMENTS \n\n\n\nTYPE “WZW” in Guild Chat for AUTOINVITE. MUST BE IN CYRODIIL.
URL:https://vanquishguild.org/event/warzone-wednesday-3/2026-04-29/
CATEGORIES:Cyrodiil,PVP
ATTACH;FMTTYPE=image/png:https://vanquishguild.org/wp-content/uploads/2025/05/WZW.png
END:VEVENT
BEGIN:VEVENT
DTSTART;TZID=America/New_York:20260506T210000
DTEND;TZID=America/New_York:20260506T230000
DTSTAMP:20260423T135051
CREATED:20260129T010129Z
LAST-MODIFIED:20260129T010132Z
UID:10001235-1778101200-1778108400@vanquishguild.org
SUMMARY:WARZONE Wednesday
DESCRIPTION:BACK ON WEDNESDAY! \n\n\n\nThis is the PvP event you’ve all be lusting after. Semi-serious\, somewhat organized\, guild group PvP. \n\n\n\nRead the requirements located at the link below before signing up and/or showing up. \n\n\n\nREQUIREMENTS \n\n\n\nTYPE “WZW” in Guild Chat for AUTOINVITE. MUST BE IN CYRODIIL.
URL:https://vanquishguild.org/event/warzone-wednesday-3/2026-05-06/
CATEGORIES:Cyrodiil,PVP
ATTACH;FMTTYPE=image/png:https://vanquishguild.org/wp-content/uploads/2025/05/WZW.png
END:VEVENT
BEGIN:VEVENT
DTSTART;TZID=America/New_York:20260513T210000
DTEND;TZID=America/New_York:20260513T230000
DTSTAMP:20260423T135051
CREATED:20260129T010129Z
LAST-MODIFIED:20260129T010132Z
UID:10001236-1778706000-1778713200@vanquishguild.org
SUMMARY:WARZONE Wednesday
DESCRIPTION:BACK ON WEDNESDAY! \n\n\n\nThis is the PvP event you’ve all be lusting after. Semi-serious\, somewhat organized\, guild group PvP. \n\n\n\nRead the requirements located at the link below before signing up and/or showing up. \n\n\n\nREQUIREMENTS \n\n\n\nTYPE “WZW” in Guild Chat for AUTOINVITE. MUST BE IN CYRODIIL.
URL:https://vanquishguild.org/event/warzone-wednesday-3/2026-05-13/
CATEGORIES:Cyrodiil,PVP
ATTACH;FMTTYPE=image/png:https://vanquishguild.org/wp-content/uploads/2025/05/WZW.png
END:VEVENT
BEGIN:VEVENT
DTSTART;TZID=America/New_York:20260520T210000
DTEND;TZID=America/New_York:20260520T230000
DTSTAMP:20260423T135051
CREATED:20260129T010129Z
LAST-MODIFIED:20260129T010132Z
UID:10001237-1779310800-1779318000@vanquishguild.org
SUMMARY:WARZONE Wednesday
DESCRIPTION:BACK ON WEDNESDAY! \n\n\n\nThis is the PvP event you’ve all be lusting after. Semi-serious\, somewhat organized\, guild group PvP. \n\n\n\nRead the requirements located at the link below before signing up and/or showing up. \n\n\n\nREQUIREMENTS \n\n\n\nTYPE “WZW” in Guild Chat for AUTOINVITE. MUST BE IN CYRODIIL.
URL:https://vanquishguild.org/event/warzone-wednesday-3/2026-05-20/
CATEGORIES:Cyrodiil,PVP
ATTACH;FMTTYPE=image/png:https://vanquishguild.org/wp-content/uploads/2025/05/WZW.png
END:VEVENT
BEGIN:VEVENT
DTSTART;TZID=America/New_York:20260527T210000
DTEND;TZID=America/New_York:20260527T230000
DTSTAMP:20260423T135051
CREATED:20260129T010129Z
LAST-MODIFIED:20260129T010132Z
UID:10001238-1779915600-1779922800@vanquishguild.org
SUMMARY:WARZONE Wednesday
DESCRIPTION:BACK ON WEDNESDAY! \n\n\n\nThis is the PvP event you’ve all be lusting after. Semi-serious\, somewhat organized\, guild group PvP. \n\n\n\nRead the requirements located at the link below before signing up and/or showing up. \n\n\n\nREQUIREMENTS \n\n\n\nTYPE “WZW” in Guild Chat for AUTOINVITE. MUST BE IN CYRODIIL.
URL:https://vanquishguild.org/event/warzone-wednesday-3/2026-05-27/
CATEGORIES:Cyrodiil,PVP
ATTACH;FMTTYPE=image/png:https://vanquishguild.org/wp-content/uploads/2025/05/WZW.png
END:VEVENT
BEGIN:VEVENT
DTSTART;TZID=America/New_York:20260603T210000
DTEND;TZID=America/New_York:20260603T230000
DTSTAMP:20260423T135051
CREATED:20260129T010129Z
LAST-MODIFIED:20260129T010132Z
UID:10001239-1780520400-1780527600@vanquishguild.org
SUMMARY:WARZONE Wednesday
DESCRIPTION:BACK ON WEDNESDAY! \n\n\n\nThis is the PvP event you’ve all be lusting after. Semi-serious\, somewhat organized\, guild group PvP. \n\n\n\nRead the requirements located at the link below before signing up and/or showing up. \n\n\n\nREQUIREMENTS \n\n\n\nTYPE “WZW” in Guild Chat for AUTOINVITE. MUST BE IN CYRODIIL.
URL:https://vanquishguild.org/event/warzone-wednesday-3/2026-06-03/
CATEGORIES:Cyrodiil,PVP
ATTACH;FMTTYPE=image/png:https://vanquishguild.org/wp-content/uploads/2025/05/WZW.png
END:VEVENT
BEGIN:VEVENT
DTSTART;TZID=America/New_York:20260610T210000
DTEND;TZID=America/New_York:20260610T230000
DTSTAMP:20260423T135051
CREATED:20260129T010129Z
LAST-MODIFIED:20260129T010132Z
UID:10001240-1781125200-1781132400@vanquishguild.org
SUMMARY:WARZONE Wednesday
DESCRIPTION:BACK ON WEDNESDAY! \n\n\n\nThis is the PvP event you’ve all be lusting after. Semi-serious\, somewhat organized\, guild group PvP. \n\n\n\nRead the requirements located at the link below before signing up and/or showing up. \n\n\n\nREQUIREMENTS \n\n\n\nTYPE “WZW” in Guild Chat for AUTOINVITE. MUST BE IN CYRODIIL.
URL:https://vanquishguild.org/event/warzone-wednesday-3/2026-06-10/
CATEGORIES:Cyrodiil,PVP
ATTACH;FMTTYPE=image/png:https://vanquishguild.org/wp-content/uploads/2025/05/WZW.png
END:VEVENT
BEGIN:VEVENT
DTSTART;TZID=America/New_York:20260617T210000
DTEND;TZID=America/New_York:20260617T230000
DTSTAMP:20260423T135051
CREATED:20260129T010129Z
LAST-MODIFIED:20260129T010132Z
UID:10001241-1781730000-1781737200@vanquishguild.org
SUMMARY:WARZONE Wednesday
DESCRIPTION:BACK ON WEDNESDAY! \n\n\n\nThis is the PvP event you’ve all be lusting after. Semi-serious\, somewhat organized\, guild group PvP. \n\n\n\nRead the requirements located at the link below before signing up and/or showing up. \n\n\n\nREQUIREMENTS \n\n\n\nTYPE “WZW” in Guild Chat for AUTOINVITE. MUST BE IN CYRODIIL.
URL:https://vanquishguild.org/event/warzone-wednesday-3/2026-06-17/
CATEGORIES:Cyrodiil,PVP
ATTACH;FMTTYPE=image/png:https://vanquishguild.org/wp-content/uploads/2025/05/WZW.png
END:VEVENT
BEGIN:VEVENT
DTSTART;TZID=America/New_York:20260624T210000
DTEND;TZID=America/New_York:20260624T230000
DTSTAMP:20260423T135051
CREATED:20260129T010129Z
LAST-MODIFIED:20260129T010132Z
UID:10001242-1782334800-1782342000@vanquishguild.org
SUMMARY:WARZONE Wednesday
DESCRIPTION:BACK ON WEDNESDAY! \n\n\n\nThis is the PvP event you’ve all be lusting after. Semi-serious\, somewhat organized\, guild group PvP. \n\n\n\nRead the requirements located at the link below before signing up and/or showing up. \n\n\n\nREQUIREMENTS \n\n\n\nTYPE “WZW” in Guild Chat for AUTOINVITE. MUST BE IN CYRODIIL.
URL:https://vanquishguild.org/event/warzone-wednesday-3/2026-06-24/
CATEGORIES:Cyrodiil,PVP
ATTACH;FMTTYPE=image/png:https://vanquishguild.org/wp-content/uploads/2025/05/WZW.png
END:VEVENT
BEGIN:VEVENT
DTSTART;TZID=America/New_York:20260701T210000
DTEND;TZID=America/New_York:20260701T230000
DTSTAMP:20260423T135051
CREATED:20260129T010129Z
LAST-MODIFIED:20260129T010132Z
UID:10001243-1782939600-1782946800@vanquishguild.org
SUMMARY:WARZONE Wednesday
DESCRIPTION:BACK ON WEDNESDAY! \n\n\n\nThis is the PvP event you’ve all be lusting after. Semi-serious\, somewhat organized\, guild group PvP. \n\n\n\nRead the requirements located at the link below before signing up and/or showing up. \n\n\n\nREQUIREMENTS \n\n\n\nTYPE “WZW” in Guild Chat for AUTOINVITE. MUST BE IN CYRODIIL.
URL:https://vanquishguild.org/event/warzone-wednesday-3/2026-07-01/
CATEGORIES:Cyrodiil,PVP
ATTACH;FMTTYPE=image/png:https://vanquishguild.org/wp-content/uploads/2025/05/WZW.png
END:VEVENT
BEGIN:VEVENT
DTSTART;TZID=America/New_York:20260708T210000
DTEND;TZID=America/New_York:20260708T230000
DTSTAMP:20260423T135051
CREATED:20260129T010129Z
LAST-MODIFIED:20260129T010132Z
UID:10001244-1783544400-1783551600@vanquishguild.org
SUMMARY:WARZONE Wednesday
DESCRIPTION:BACK ON WEDNESDAY! \n\n\n\nThis is the PvP event you’ve all be lusting after. Semi-serious\, somewhat organized\, guild group PvP. \n\n\n\nRead the requirements located at the link below before signing up and/or showing up. \n\n\n\nREQUIREMENTS \n\n\n\nTYPE “WZW” in Guild Chat for AUTOINVITE. MUST BE IN CYRODIIL.
URL:https://vanquishguild.org/event/warzone-wednesday-3/2026-07-08/
CATEGORIES:Cyrodiil,PVP
ATTACH;FMTTYPE=image/png:https://vanquishguild.org/wp-content/uploads/2025/05/WZW.png
END:VEVENT
BEGIN:VEVENT
DTSTART;TZID=America/New_York:20260715T210000
DTEND;TZID=America/New_York:20260715T230000
DTSTAMP:20260423T135051
CREATED:20260129T010129Z
LAST-MODIFIED:20260129T010132Z
UID:10001245-1784149200-1784156400@vanquishguild.org
SUMMARY:WARZONE Wednesday
DESCRIPTION:BACK ON WEDNESDAY! \n\n\n\nThis is the PvP event you’ve all be lusting after. Semi-serious\, somewhat organized\, guild group PvP. \n\n\n\nRead the requirements located at the link below before signing up and/or showing up. \n\n\n\nREQUIREMENTS \n\n\n\nTYPE “WZW” in Guild Chat for AUTOINVITE. MUST BE IN CYRODIIL.
URL:https://vanquishguild.org/event/warzone-wednesday-3/2026-07-15/
CATEGORIES:Cyrodiil,PVP
ATTACH;FMTTYPE=image/png:https://vanquishguild.org/wp-content/uploads/2025/05/WZW.png
END:VEVENT
BEGIN:VEVENT
DTSTART;TZID=America/New_York:20260722T210000
DTEND;TZID=America/New_York:20260722T230000
DTSTAMP:20260423T135051
CREATED:20260129T010129Z
LAST-MODIFIED:20260129T010132Z
UID:10001246-1784754000-1784761200@vanquishguild.org
SUMMARY:WARZONE Wednesday
DESCRIPTION:BACK ON WEDNESDAY! \n\n\n\nThis is the PvP event you’ve all be lusting after. Semi-serious\, somewhat organized\, guild group PvP. \n\n\n\nRead the requirements located at the link below before signing up and/or showing up. \n\n\n\nREQUIREMENTS \n\n\n\nTYPE “WZW” in Guild Chat for AUTOINVITE. MUST BE IN CYRODIIL.
URL:https://vanquishguild.org/event/warzone-wednesday-3/2026-07-22/
CATEGORIES:Cyrodiil,PVP
ATTACH;FMTTYPE=image/png:https://vanquishguild.org/wp-content/uploads/2025/05/WZW.png
END:VEVENT
BEGIN:VEVENT
DTSTART;TZID=America/New_York:20260729T210000
DTEND;TZID=America/New_York:20260729T230000
DTSTAMP:20260423T135051
CREATED:20260129T010129Z
LAST-MODIFIED:20260129T010132Z
UID:10001247-1785358800-1785366000@vanquishguild.org
SUMMARY:WARZONE Wednesday
DESCRIPTION:BACK ON WEDNESDAY! \n\n\n\nThis is the PvP event you’ve all be lusting after. Semi-serious\, somewhat organized\, guild group PvP. \n\n\n\nRead the requirements located at the link below before signing up and/or showing up. \n\n\n\nREQUIREMENTS \n\n\n\nTYPE “WZW” in Guild Chat for AUTOINVITE. MUST BE IN CYRODIIL.
URL:https://vanquishguild.org/event/warzone-wednesday-3/2026-07-29/
CATEGORIES:Cyrodiil,PVP
ATTACH;FMTTYPE=image/png:https://vanquishguild.org/wp-content/uploads/2025/05/WZW.png
END:VEVENT
BEGIN:VEVENT
DTSTART;TZID=America/New_York:20260805T210000
DTEND;TZID=America/New_York:20260805T230000
DTSTAMP:20260423T135051
CREATED:20260129T010129Z
LAST-MODIFIED:20260129T010132Z
UID:10001248-1785963600-1785970800@vanquishguild.org
SUMMARY:WARZONE Wednesday
DESCRIPTION:BACK ON WEDNESDAY! \n\n\n\nThis is the PvP event you’ve all be lusting after. Semi-serious\, somewhat organized\, guild group PvP. \n\n\n\nRead the requirements located at the link below before signing up and/or showing up. \n\n\n\nREQUIREMENTS \n\n\n\nTYPE “WZW” in Guild Chat for AUTOINVITE. MUST BE IN CYRODIIL.
URL:https://vanquishguild.org/event/warzone-wednesday-3/2026-08-05/
CATEGORIES:Cyrodiil,PVP
ATTACH;FMTTYPE=image/png:https://vanquishguild.org/wp-content/uploads/2025/05/WZW.png
END:VEVENT
BEGIN:VEVENT
DTSTART;TZID=America/New_York:20260812T210000
DTEND;TZID=America/New_York:20260812T230000
DTSTAMP:20260423T135051
CREATED:20260129T010129Z
LAST-MODIFIED:20260129T010132Z
UID:10001249-1786568400-1786575600@vanquishguild.org
SUMMARY:WARZONE Wednesday
DESCRIPTION:BACK ON WEDNESDAY! \n\n\n\nThis is the PvP event you’ve all be lusting after. Semi-serious\, somewhat organized\, guild group PvP. \n\n\n\nRead the requirements located at the link below before signing up and/or showing up. \n\n\n\nREQUIREMENTS \n\n\n\nTYPE “WZW” in Guild Chat for AUTOINVITE. MUST BE IN CYRODIIL.
URL:https://vanquishguild.org/event/warzone-wednesday-3/2026-08-12/
CATEGORIES:Cyrodiil,PVP
ATTACH;FMTTYPE=image/png:https://vanquishguild.org/wp-content/uploads/2025/05/WZW.png
END:VEVENT
BEGIN:VEVENT
DTSTART;TZID=America/New_York:20260819T210000
DTEND;TZID=America/New_York:20260819T230000
DTSTAMP:20260423T135051
CREATED:20260129T010129Z
LAST-MODIFIED:20260129T010132Z
UID:10001250-1787173200-1787180400@vanquishguild.org
SUMMARY:WARZONE Wednesday
DESCRIPTION:BACK ON WEDNESDAY! \n\n\n\nThis is the PvP event you’ve all be lusting after. Semi-serious\, somewhat organized\, guild group PvP. \n\n\n\nRead the requirements located at the link below before signing up and/or showing up. \n\n\n\nREQUIREMENTS \n\n\n\nTYPE “WZW” in Guild Chat for AUTOINVITE. MUST BE IN CYRODIIL.
URL:https://vanquishguild.org/event/warzone-wednesday-3/2026-08-19/
CATEGORIES:Cyrodiil,PVP
ATTACH;FMTTYPE=image/png:https://vanquishguild.org/wp-content/uploads/2025/05/WZW.png
END:VEVENT
BEGIN:VEVENT
DTSTART;TZID=America/New_York:20260826T210000
DTEND;TZID=America/New_York:20260826T230000
DTSTAMP:20260423T135052
CREATED:20260129T010129Z
LAST-MODIFIED:20260129T010132Z
UID:10001251-1787778000-1787785200@vanquishguild.org
SUMMARY:WARZONE Wednesday
DESCRIPTION:BACK ON WEDNESDAY! \n\n\n\nThis is the PvP event you’ve all be lusting after. Semi-serious\, somewhat organized\, guild group PvP. \n\n\n\nRead the requirements located at the link below before signing up and/or showing up. \n\n\n\nREQUIREMENTS \n\n\n\nTYPE “WZW” in Guild Chat for AUTOINVITE. MUST BE IN CYRODIIL.
URL:https://vanquishguild.org/event/warzone-wednesday-3/2026-08-26/
CATEGORIES:Cyrodiil,PVP
ATTACH;FMTTYPE=image/png:https://vanquishguild.org/wp-content/uploads/2025/05/WZW.png
END:VEVENT
BEGIN:VEVENT
DTSTART;TZID=America/New_York:20260902T210000
DTEND;TZID=America/New_York:20260902T230000
DTSTAMP:20260423T135052
CREATED:20260129T010129Z
LAST-MODIFIED:20260129T010132Z
UID:10001252-1788382800-1788390000@vanquishguild.org
SUMMARY:WARZONE Wednesday
DESCRIPTION:BACK ON WEDNESDAY! \n\n\n\nThis is the PvP event you’ve all be lusting after. Semi-serious\, somewhat organized\, guild group PvP. \n\n\n\nRead the requirements located at the link below before signing up and/or showing up. \n\n\n\nREQUIREMENTS \n\n\n\nTYPE “WZW” in Guild Chat for AUTOINVITE. MUST BE IN CYRODIIL.
URL:https://vanquishguild.org/event/warzone-wednesday-3/2026-09-02/
CATEGORIES:Cyrodiil,PVP
ATTACH;FMTTYPE=image/png:https://vanquishguild.org/wp-content/uploads/2025/05/WZW.png
END:VEVENT
BEGIN:VEVENT
DTSTART;TZID=America/New_York:20260909T210000
DTEND;TZID=America/New_York:20260909T230000
DTSTAMP:20260423T135052
CREATED:20260129T010129Z
LAST-MODIFIED:20260129T010132Z
UID:10001253-1788987600-1788994800@vanquishguild.org
SUMMARY:WARZONE Wednesday
DESCRIPTION:BACK ON WEDNESDAY! \n\n\n\nThis is the PvP event you’ve all be lusting after. Semi-serious\, somewhat organized\, guild group PvP. \n\n\n\nRead the requirements located at the link below before signing up and/or showing up. \n\n\n\nREQUIREMENTS \n\n\n\nTYPE “WZW” in Guild Chat for AUTOINVITE. MUST BE IN CYRODIIL.
URL:https://vanquishguild.org/event/warzone-wednesday-3/2026-09-09/
CATEGORIES:Cyrodiil,PVP
ATTACH;FMTTYPE=image/png:https://vanquishguild.org/wp-content/uploads/2025/05/WZW.png
END:VEVENT
BEGIN:VEVENT
DTSTART;TZID=America/New_York:20260916T210000
DTEND;TZID=America/New_York:20260916T230000
DTSTAMP:20260423T135052
CREATED:20260129T010129Z
LAST-MODIFIED:20260129T010132Z
UID:10001254-1789592400-1789599600@vanquishguild.org
SUMMARY:WARZONE Wednesday
DESCRIPTION:BACK ON WEDNESDAY! \n\n\n\nThis is the PvP event you’ve all be lusting after. Semi-serious\, somewhat organized\, guild group PvP. \n\n\n\nRead the requirements located at the link below before signing up and/or showing up. \n\n\n\nREQUIREMENTS \n\n\n\nTYPE “WZW” in Guild Chat for AUTOINVITE. MUST BE IN CYRODIIL.
URL:https://vanquishguild.org/event/warzone-wednesday-3/2026-09-16/
CATEGORIES:Cyrodiil,PVP
ATTACH;FMTTYPE=image/png:https://vanquishguild.org/wp-content/uploads/2025/05/WZW.png
END:VEVENT
BEGIN:VEVENT
DTSTART;TZID=America/New_York:20260923T210000
DTEND;TZID=America/New_York:20260923T230000
DTSTAMP:20260423T135052
CREATED:20260129T010129Z
LAST-MODIFIED:20260129T010132Z
UID:10001255-1790197200-1790204400@vanquishguild.org
SUMMARY:WARZONE Wednesday
DESCRIPTION:BACK ON WEDNESDAY! \n\n\n\nThis is the PvP event you’ve all be lusting after. Semi-serious\, somewhat organized\, guild group PvP. \n\n\n\nRead the requirements located at the link below before signing up and/or showing up. \n\n\n\nREQUIREMENTS \n\n\n\nTYPE “WZW” in Guild Chat for AUTOINVITE. MUST BE IN CYRODIIL.
URL:https://vanquishguild.org/event/warzone-wednesday-3/2026-09-23/
CATEGORIES:Cyrodiil,PVP
ATTACH;FMTTYPE=image/png:https://vanquishguild.org/wp-content/uploads/2025/05/WZW.png
END:VEVENT
BEGIN:VEVENT
DTSTART;TZID=America/New_York:20260930T210000
DTEND;TZID=America/New_York:20260930T230000
DTSTAMP:20260423T135052
CREATED:20260129T010129Z
LAST-MODIFIED:20260129T010132Z
UID:10001256-1790802000-1790809200@vanquishguild.org
SUMMARY:WARZONE Wednesday
DESCRIPTION:BACK ON WEDNESDAY! \n\n\n\nThis is the PvP event you’ve all be lusting after. Semi-serious\, somewhat organized\, guild group PvP. \n\n\n\nRead the requirements located at the link below before signing up and/or showing up. \n\n\n\nREQUIREMENTS \n\n\n\nTYPE “WZW” in Guild Chat for AUTOINVITE. MUST BE IN CYRODIIL.
URL:https://vanquishguild.org/event/warzone-wednesday-3/2026-09-30/
CATEGORIES:Cyrodiil,PVP
ATTACH;FMTTYPE=image/png:https://vanquishguild.org/wp-content/uploads/2025/05/WZW.png
END:VEVENT
BEGIN:VEVENT
DTSTART;TZID=America/New_York:20261007T210000
DTEND;TZID=America/New_York:20261007T230000
DTSTAMP:20260423T135052
CREATED:20260129T010129Z
LAST-MODIFIED:20260129T010132Z
UID:10001257-1791406800-1791414000@vanquishguild.org
SUMMARY:WARZONE Wednesday
DESCRIPTION:BACK ON WEDNESDAY! \n\n\n\nThis is the PvP event you’ve all be lusting after. Semi-serious\, somewhat organized\, guild group PvP. \n\n\n\nRead the requirements located at the link below before signing up and/or showing up. \n\n\n\nREQUIREMENTS \n\n\n\nTYPE “WZW” in Guild Chat for AUTOINVITE. MUST BE IN CYRODIIL.
URL:https://vanquishguild.org/event/warzone-wednesday-3/2026-10-07/
CATEGORIES:Cyrodiil,PVP
ATTACH;FMTTYPE=image/png:https://vanquishguild.org/wp-content/uploads/2025/05/WZW.png
END:VEVENT
BEGIN:VEVENT
DTSTART;TZID=America/New_York:20261014T210000
DTEND;TZID=America/New_York:20261014T230000
DTSTAMP:20260423T135052
CREATED:20260129T010129Z
LAST-MODIFIED:20260129T010132Z
UID:10001258-1792011600-1792018800@vanquishguild.org
SUMMARY:WARZONE Wednesday
DESCRIPTION:BACK ON WEDNESDAY! \n\n\n\nThis is the PvP event you’ve all be lusting after. Semi-serious\, somewhat organized\, guild group PvP. \n\n\n\nRead the requirements located at the link below before signing up and/or showing up. \n\n\n\nREQUIREMENTS \n\n\n\nTYPE “WZW” in Guild Chat for AUTOINVITE. MUST BE IN CYRODIIL.
URL:https://vanquishguild.org/event/warzone-wednesday-3/2026-10-14/
CATEGORIES:Cyrodiil,PVP
ATTACH;FMTTYPE=image/png:https://vanquishguild.org/wp-content/uploads/2025/05/WZW.png
END:VEVENT
BEGIN:VEVENT
DTSTART;TZID=America/New_York:20261021T210000
DTEND;TZID=America/New_York:20261021T230000
DTSTAMP:20260423T135052
CREATED:20260129T010129Z
LAST-MODIFIED:20260129T010132Z
UID:10001259-1792616400-1792623600@vanquishguild.org
SUMMARY:WARZONE Wednesday
DESCRIPTION:BACK ON WEDNESDAY! \n\n\n\nThis is the PvP event you’ve all be lusting after. Semi-serious\, somewhat organized\, guild group PvP. \n\n\n\nRead the requirements located at the link below before signing up and/or showing up. \n\n\n\nREQUIREMENTS \n\n\n\nTYPE “WZW” in Guild Chat for AUTOINVITE. MUST BE IN CYRODIIL.
URL:https://vanquishguild.org/event/warzone-wednesday-3/2026-10-21/
CATEGORIES:Cyrodiil,PVP
ATTACH;FMTTYPE=image/png:https://vanquishguild.org/wp-content/uploads/2025/05/WZW.png
END:VEVENT
BEGIN:VEVENT
DTSTART;TZID=America/New_York:20261028T210000
DTEND;TZID=America/New_York:20261028T230000
DTSTAMP:20260423T135052
CREATED:20260129T010129Z
LAST-MODIFIED:20260129T010132Z
UID:10001260-1793221200-1793228400@vanquishguild.org
SUMMARY:WARZONE Wednesday
DESCRIPTION:BACK ON WEDNESDAY! \n\n\n\nThis is the PvP event you’ve all be lusting after. Semi-serious\, somewhat organized\, guild group PvP. \n\n\n\nRead the requirements located at the link below before signing up and/or showing up. \n\n\n\nREQUIREMENTS \n\n\n\nTYPE “WZW” in Guild Chat for AUTOINVITE. MUST BE IN CYRODIIL.
URL:https://vanquishguild.org/event/warzone-wednesday-3/2026-10-28/
CATEGORIES:Cyrodiil,PVP
ATTACH;FMTTYPE=image/png:https://vanquishguild.org/wp-content/uploads/2025/05/WZW.png
END:VEVENT
BEGIN:VEVENT
DTSTART;TZID=America/New_York:20261104T210000
DTEND;TZID=America/New_York:20261104T230000
DTSTAMP:20260423T135052
CREATED:20260129T010129Z
LAST-MODIFIED:20260129T010132Z
UID:10001261-1793826000-1793833200@vanquishguild.org
SUMMARY:WARZONE Wednesday
DESCRIPTION:BACK ON WEDNESDAY! \n\n\n\nThis is the PvP event you’ve all be lusting after. Semi-serious\, somewhat organized\, guild group PvP. \n\n\n\nRead the requirements located at the link below before signing up and/or showing up. \n\n\n\nREQUIREMENTS \n\n\n\nTYPE “WZW” in Guild Chat for AUTOINVITE. MUST BE IN CYRODIIL.
URL:https://vanquishguild.org/event/warzone-wednesday-3/2026-11-04/
CATEGORIES:Cyrodiil,PVP
ATTACH;FMTTYPE=image/png:https://vanquishguild.org/wp-content/uploads/2025/05/WZW.png
END:VEVENT
BEGIN:VEVENT
DTSTART;TZID=America/New_York:20261111T210000
DTEND;TZID=America/New_York:20261111T230000
DTSTAMP:20260423T135052
CREATED:20260129T010129Z
LAST-MODIFIED:20260129T010132Z
UID:10001262-1794430800-1794438000@vanquishguild.org
SUMMARY:WARZONE Wednesday
DESCRIPTION:BACK ON WEDNESDAY! \n\n\n\nThis is the PvP event you’ve all be lusting after. Semi-serious\, somewhat organized\, guild group PvP. \n\n\n\nRead the requirements located at the link below before signing up and/or showing up. \n\n\n\nREQUIREMENTS \n\n\n\nTYPE “WZW” in Guild Chat for AUTOINVITE. MUST BE IN CYRODIIL.
URL:https://vanquishguild.org/event/warzone-wednesday-3/2026-11-11/
CATEGORIES:Cyrodiil,PVP
ATTACH;FMTTYPE=image/png:https://vanquishguild.org/wp-content/uploads/2025/05/WZW.png
END:VEVENT
BEGIN:VEVENT
DTSTART;TZID=America/New_York:20261118T210000
DTEND;TZID=America/New_York:20261118T230000
DTSTAMP:20260423T135052
CREATED:20260129T010129Z
LAST-MODIFIED:20260129T010132Z
UID:10001263-1795035600-1795042800@vanquishguild.org
SUMMARY:WARZONE Wednesday
DESCRIPTION:BACK ON WEDNESDAY! \n\n\n\nThis is the PvP event you’ve all be lusting after. Semi-serious\, somewhat organized\, guild group PvP. \n\n\n\nRead the requirements located at the link below before signing up and/or showing up. \n\n\n\nREQUIREMENTS \n\n\n\nTYPE “WZW” in Guild Chat for AUTOINVITE. MUST BE IN CYRODIIL.
URL:https://vanquishguild.org/event/warzone-wednesday-3/2026-11-18/
CATEGORIES:Cyrodiil,PVP
ATTACH;FMTTYPE=image/png:https://vanquishguild.org/wp-content/uploads/2025/05/WZW.png
END:VEVENT
END:VCALENDAR