BEGIN:VCALENDAR
VERSION:2.0
PRODID:-//Vanquish - ECPv6.15.20//NONSGML v1.0//EN
CALSCALE:GREGORIAN
METHOD:PUBLISH
X-WR-CALNAME:Vanquish
X-ORIGINAL-URL:https://vanquishguild.org
X-WR-CALDESC:Events for Vanquish
REFRESH-INTERVAL;VALUE=DURATION:PT1H
X-Robots-Tag:noindex
X-PUBLISHED-TTL:PT1H
BEGIN:VTIMEZONE
TZID:America/New_York
BEGIN:DAYLIGHT
TZOFFSETFROM:-0500
TZOFFSETTO:-0400
TZNAME:EDT
DTSTART:20250309T070000
END:DAYLIGHT
BEGIN:STANDARD
TZOFFSETFROM:-0400
TZOFFSETTO:-0500
TZNAME:EST
DTSTART:20251102T060000
END:STANDARD
BEGIN:DAYLIGHT
TZOFFSETFROM:-0500
TZOFFSETTO:-0400
TZNAME:EDT
DTSTART:20260308T070000
END:DAYLIGHT
BEGIN:STANDARD
TZOFFSETFROM:-0400
TZOFFSETTO:-0500
TZNAME:EST
DTSTART:20261101T060000
END:STANDARD
BEGIN:DAYLIGHT
TZOFFSETFROM:-0500
TZOFFSETTO:-0400
TZNAME:EDT
DTSTART:20270314T070000
END:DAYLIGHT
BEGIN:STANDARD
TZOFFSETFROM:-0400
TZOFFSETTO:-0500
TZNAME:EST
DTSTART:20271107T060000
END:STANDARD
END:VTIMEZONE
BEGIN:VTIMEZONE
TZID:America/Indiana/Indianapolis
BEGIN:DAYLIGHT
TZOFFSETFROM:-0500
TZOFFSETTO:-0400
TZNAME:EDT
DTSTART:20250309T070000
END:DAYLIGHT
BEGIN:STANDARD
TZOFFSETFROM:-0400
TZOFFSETTO:-0500
TZNAME:EST
DTSTART:20251102T060000
END:STANDARD
BEGIN:DAYLIGHT
TZOFFSETFROM:-0500
TZOFFSETTO:-0400
TZNAME:EDT
DTSTART:20260308T070000
END:DAYLIGHT
BEGIN:STANDARD
TZOFFSETFROM:-0400
TZOFFSETTO:-0500
TZNAME:EST
DTSTART:20261101T060000
END:STANDARD
BEGIN:DAYLIGHT
TZOFFSETFROM:-0500
TZOFFSETTO:-0400
TZNAME:EDT
DTSTART:20270314T070000
END:DAYLIGHT
BEGIN:STANDARD
TZOFFSETFROM:-0400
TZOFFSETTO:-0500
TZNAME:EST
DTSTART:20271107T060000
END:STANDARD
END:VTIMEZONE
BEGIN:VEVENT
DTSTART;TZID=America/New_York:20260423T200000
DTEND;TZID=America/New_York:20260423T220000
DTSTAMP:20260423T085133
CREATED:20260419T231958Z
LAST-MODIFIED:20260421T012817Z
UID:10003566-1776974400-1776981600@vanquishguild.org
SUMMARY:Open Veteran Kyne's Aegis
DESCRIPTION:Gear Requirements: (2) 5-piece sets\, correct enchants/traits\, and at least purple tier for your role.Addons: See our Addons Guide for specific raids.CP: 500 minimum.NOTE: For OPEN Vet Trials\, player must have completed the trial in Normal difficulty. Organizer may recommend gear requirements for Tanks and/or Healers.If we haven’t enough for a trial\, we will find a alternative adventure
URL:https://vanquishguild.org/event/open-veteran-kynes-aegis-2/
CATEGORIES:Open Vet,Trials
ATTACH;FMTTYPE=image/webp:https://vanquishguild.org/wp-content/uploads/2026/04/Kynes_Aegis.webp
END:VEVENT
BEGIN:VEVENT
DTSTART;TZID=America/Indiana/Indianapolis:20260424T210000
DTEND;TZID=America/Indiana/Indianapolis:20260424T230000
DTSTAMP:20260423T085133
CREATED:20250530T031352Z
LAST-MODIFIED:20250530T031356Z
UID:10001570-1777064400-1777071600@vanquishguild.org
SUMMARY:FRIDAY NIGHT FIGHTS!
DESCRIPTION:Folks\, this is a social run\, this is a fun run\, this is a DRUNKEN run but you must put in the effort to know the basics of PvP and Cyro! 15 mins on Google and 15 mins in game and you are good to go! FNF is not here to hold your hand! We are here however\, to hold your hair at the end of the night when riding the porcelain pony! This is a two hour event. \n\n\n\nThis event is hosted by DanTheMann\, our very own PvP officer\, although many of our members can step in to lead it when he is unavailable they can’t bring the same level of “Dan’isms” to the event. This is the Vanquish guilds PvP and drinking night\, and we take the drinking much more seriously then we take the PvP. Mostly we go where Dan tells us to go and then we try not to get bombed while cursing because our drinks are empty. It is a fun night of “anything goes’ with lots of PEEPS to be had with your guild-mates. Requirements for this event are that you run a DC character and are level 10 or above (IF we are visiting Imperial City you will need that DLC). You can get instruction before the event on which campaign we will use and how to enter Cyrodiil if you’ve never been there\, just ask in guild chat or on Discord. This is the night for those that don’t really like PvP but would like to earn the AP points to cap the Alliance skill lines or those members interested in learning about PvP in a relaxed environment. Come on out and have a PEEP on Dan. \n\n\n\nIf you have always wanted to make your enemies cower in fear and then run in terror when they see you coming……this event is not for you! However\, if you want to drink with your guild mates and be talked about in guild chat for all the Friday nights to come in whatever game we are playing…bring your shitty pony and join the fun! I do not promise you glory\, but I promise you a great group of people who like to drink and shenanigans…..I promise you shenanigans. \n\n\n\nSign ups are not required for this event. \n\n\n\nTYPE “FNF” in Guild Chat for AUTOINVITE. MUST BE IN CYRODIIL.Due to many groups\, may be FN1\, FN2\, FN3\, FN4\, or FN5.
URL:https://vanquishguild.org/event/friday-night-fights/2026-04-24/
CATEGORIES:Cyrodiil,PVP
ATTACH;FMTTYPE=image/png:https://vanquishguild.org/wp-content/uploads/2025/05/FNF.png
END:VEVENT
BEGIN:VEVENT
DTSTART;TZID=America/Indiana/Indianapolis:20260425T110000
DTEND;TZID=America/Indiana/Indianapolis:20260425T133000
DTSTAMP:20260423T085133
CREATED:20250530T032537Z
LAST-MODIFIED:20250530T114345Z
UID:10001837-1777114800-1777123800@vanquishguild.org
SUMMARY:Saturday Morning Smackdown
DESCRIPTION:Bring your lowbies or whatever! We clear zones overland of World bosses\, Sky shards and Lore books. 3 zones each week then we rinse and repeat! \n\n\n\nDiscord is required to listen. Request of no pets. \n\n\n\nSign ups are not required for this event. Simply be in game and look for auto-invite in guild chat.
URL:https://vanquishguild.org/event/saturday-morning-smackdown/2026-04-25/
CATEGORIES:Overland,World Boss
ATTACH;FMTTYPE=image/png:https://vanquishguild.org/wp-content/uploads/2025/05/SMS-1.png
END:VEVENT
BEGIN:VEVENT
DTSTART;TZID=America/Indiana/Indianapolis:20260425T190000
DTEND;TZID=America/Indiana/Indianapolis:20260425T210000
DTSTAMP:20260423T085133
CREATED:20251220T020956Z
LAST-MODIFIED:20251220T021301Z
UID:10002102-1777143600-1777150800@vanquishguild.org
SUMMARY:Take the Pledge!
DESCRIPTION:Take the Pledge and become Undaunted! Get together with your fellow Vanquish’ers and give Mighty Mordra something to sing about! \n\n\n\nAny Level\, Role\, and Experience Level. Everyone that participates will be randomly put together as a team to explore the depths of the Undaunted. Meet\, greet\, and dungeon delve with those fellow Vanquish’ers that you haven’t had the pleasure of meeting. When the teams are assigned\, those within the team can discuss which warriors they can put together to reach their final destinations. \n\n\n\nYour team can determine which difficulty setting based on your group. This is a NON-DLC Pledge so EVERYONE can enter. All 4 in your team have the DLC’s? Then continue your exploration in the DLC’s or choose to do a Random Normal. \n\n\n\nRaise your undaunted skills and meet us in PVE1 on discord. NO PHYSICAL SIGN UPS NECESSARY for this event.
URL:https://vanquishguild.org/event/take-the-pledge-2/2026-04-25/
CATEGORIES:DLC,Dungeons,Group Dungeons
ATTACH;FMTTYPE=image/png:https://vanquishguild.org/wp-content/uploads/2025/05/TTP.png
END:VEVENT
BEGIN:VEVENT
DTSTART;TZID=America/New_York:20260425T220000
DTEND;TZID=America/New_York:20260425T235900
DTSTAMP:20260423T085133
CREATED:20260331T001149Z
LAST-MODIFIED:20260331T001152Z
UID:10003560-1777154400-1777161540@vanquishguild.org
SUMMARY:Saturday Night Trials
DESCRIPTION:Come join Vanquish’s own Infi in some late evening\, Saturday night Trials and shenanigans! \n\n\n\nThis run will cater to both the new member in Vanquish as well as those looking to gain a bit more experience in Trials. \n\n\n\nThe focus of these Trials will be learning mechanics\, movement\, set ups\, rotations and helping folks get ready for harder content. And….of course PHAT LOOTZ! \n\n\n\nFormation will begin 10-15 minutes prior to start time\, please come prepared! Trials will rotate through 1-2 Trial options each Saturday based on the available team! \n\n\n\nRequirements: \n\n\n\n\nPotions\, food\, repairs and charges all good to go!\n\n\n\nBe online! Invites go out 15 minutes prior to start.\n\n\n\nThe ability to at least listen in on Discord!\n\n\n\nBe willing and ready to learn\, make adjustments and be open to FRIENDLY advice from a scorpion killer!\n\n\n\nCP 160 is HIGHLY recommended. This is mainly for gear sharing so has some flexibility built in\, we are all about getting our lower level players some experience in Trials as well!\n\n\n\nRuns will rotate through 1-2 Trial options every Saturday!\n\n\n\nThis is a two hour event. Please make sure you can be in attendance for the ENTIRE event to ensure we have enough people to complete all the requests!\n\n\n\n\nBe sure to request gear/trials in the comments section
URL:https://vanquishguild.org/event/saturday-night-trials-53/
CATEGORIES:Normal,Trials
ATTACH;FMTTYPE=image/jpeg:https://vanquishguild.org/wp-content/uploads/2025/05/SAT_NIGHT_TRIALS-1.jpg
END:VEVENT
BEGIN:VEVENT
DTSTART;TZID=America/Indiana/Indianapolis:20260426T120000
DTEND;TZID=America/Indiana/Indianapolis:20260426T133000
DTSTAMP:20260423T085133
CREATED:20260228T211552Z
LAST-MODIFIED:20260228T211556Z
UID:10000489-1777204800-1777210200@vanquishguild.org
SUMMARY:World Events
DESCRIPTION:Grab your coffee and head out with your fellow Vanquish guildmates for 1.5 hours of World Events. We will be rotating every other week; taking quests\, grabbing those coffers\, and leaving daedra in the dust. There are 9 World Events in ESO: \n\n\n\n\nDark Anchors\n\n\n\nAbyssal Geysers\n\n\n\nDragonscours\n\n\n\nHarrowstorms\n\n\n\nOblivion Portals\n\n\n\nVolcanic Vents\n\n\n\nBastion Nymic\n\n\n\nMirrormoor Incursions\n\n\n\nSiege Camps & World Bosses\n\n\n\n\nOpen to any level and/or experience. Discord required. TYPE “WE” in guild chat for auto-invite prior to start.
URL:https://vanquishguild.org/event/world-events-2/2026-04-26/
CATEGORIES:Incursions,Overland
ATTACH;FMTTYPE=image/png:https://vanquishguild.org/wp-content/uploads/2025/05/WORLD_EVENTS.png
END:VEVENT
BEGIN:VEVENT
DTSTART;TZID=America/New_York:20260426T200000
DTEND;TZID=America/New_York:20260426T220000
DTSTAMP:20260423T085133
CREATED:20260421T013446Z
LAST-MODIFIED:20260421T013623Z
UID:10003568-1777233600-1777240800@vanquishguild.org
SUMMARY:OPEN Vet Rockgrove
DESCRIPTION:Gear Requirements: (2) 5-piece sets\, correct enchants/traits\, and at least purple tier for your role.Addons: See our Addons Guide for specific raids.CP: 500 minimum.NOTE: For OPEN Vet Trials\, player must have completed the trial in Normal difficulty. Organizer may recommend gear requirements for Tanks and/or Healers.
URL:https://vanquishguild.org/event/open-vet-rockgrove-2/
CATEGORIES:Open Vet,Trials
ATTACH;FMTTYPE=image/webp:https://vanquishguild.org/wp-content/uploads/2026/04/Rockgrove.webp
END:VEVENT
BEGIN:VEVENT
DTSTART;TZID=America/Indiana/Indianapolis:20260427T210000
DTEND;TZID=America/Indiana/Indianapolis:20260427T230000
DTSTAMP:20260423T085133
CREATED:20250518T214809Z
LAST-MODIFIED:20250530T030610Z
UID:10000708-1777323600-1777330800@vanquishguild.org
SUMMARY:Monday Night Madness
DESCRIPTION:Join Cy and your guildies for the slaying of bosses\, taking of XP and Loots …. LOTSA LOOTS! ALL LEVELS….all factions …. ALL FUN \n\n\n\nCovering DLC World Boss Dailies including Orsinium\, Elsweyr\, Murkmire\, Summerset\, Hew’s Bane/Gold Coast\, Clockwork\, Morrowind and Imperial City (DC Faction Only). Invites are done in guild chat with auto-invite. \n\n\n\nSign ups are not necessary for this event. Just be in game.Approx 1.5 hours running. \n\n\n\nTYPE “MNM” in Guild Chat when AUTOINVITE is up.
URL:https://vanquishguild.org/event/monday-night-madness/2026-04-27/
CATEGORIES:DLC,Overland,World Boss
ATTACH;FMTTYPE=image/png:https://vanquishguild.org/wp-content/uploads/2025/05/MNM.png
END:VEVENT
BEGIN:VEVENT
DTSTART;TZID=America/Indiana/Indianapolis:20260428T210000
DTEND;TZID=America/Indiana/Indianapolis:20260428T230000
DTSTAMP:20260423T085133
CREATED:20250518T220601Z
LAST-MODIFIED:20250530T203532Z
UID:10001077-1777410000-1777417200@vanquishguild.org
SUMMARY:SP'zoneD Tuesdays
DESCRIPTION:Join CY as he takes you on an adventure through a coordinated zone each week. \n\n\n\nGrab that NEW or VET character\, fill those shot glasses. Fill those beer steins! Or grab that coffee as you embark to collect 16-17 skyshards in a scheduled zone. Along with those Skyshards\, increase your fighters guild skill line by conquering the Dolmens as they move through. And it gets even better… the Public Dungeon within that zone! \n\n\n\nThat’s right\, “S”kyshard\, “P”ublic Dungeons\, “D”olmens for that ZONE CLEAR! \n\n\n\nSign ups are not required as auto-invites are done in guild chat. Discord is mandatory to listen\, but not required to talk. We ask all pets be shelved for the time being and to stay on crown. \n\n\n\nThis event is scheduled as a bi-weekly event. \n\n\n\nTYPE “SPD” in Guild Chat for AUTOINVITE when up.
URL:https://vanquishguild.org/event/spzoned-tuesdays/2026-04-28/
CATEGORIES:Incursions,Overland,Public Dungeon,Skyshards,World Boss
ATTACH;FMTTYPE=image/png:https://vanquishguild.org/wp-content/uploads/2025/05/SPZONED.png
END:VEVENT
BEGIN:VEVENT
DTSTART;TZID=America/New_York:20260429T210000
DTEND;TZID=America/New_York:20260429T230000
DTSTAMP:20260423T085133
CREATED:20260129T010129Z
LAST-MODIFIED:20260129T010132Z
UID:10001234-1777496400-1777503600@vanquishguild.org
SUMMARY:WARZONE Wednesday
DESCRIPTION:BACK ON WEDNESDAY! \n\n\n\nThis is the PvP event you’ve all be lusting after. Semi-serious\, somewhat organized\, guild group PvP. \n\n\n\nRead the requirements located at the link below before signing up and/or showing up. \n\n\n\nREQUIREMENTS \n\n\n\nTYPE “WZW” in Guild Chat for AUTOINVITE. MUST BE IN CYRODIIL.
URL:https://vanquishguild.org/event/warzone-wednesday-3/2026-04-29/
CATEGORIES:Cyrodiil,PVP
ATTACH;FMTTYPE=image/png:https://vanquishguild.org/wp-content/uploads/2025/05/WZW.png
END:VEVENT
BEGIN:VEVENT
DTSTART;TZID=America/New_York:20260430T200000
DTEND;TZID=America/New_York:20260430T220000
DTSTAMP:20260423T085133
CREATED:20260419T233233Z
LAST-MODIFIED:20260421T013011Z
UID:10003567-1777579200-1777586400@vanquishguild.org
SUMMARY:Night Market Foray
DESCRIPTION:Time to explore the Night Market!Everyone welcome.  No level or gear restrictions.  I will add more information as I learn it or we will go in blind.Asking for sign ups to get an idea of group size but it is a come and go as able
URL:https://vanquishguild.org/event/night-market-foray/
CATEGORIES:Special Event
ATTACH;FMTTYPE=image/webp:https://vanquishguild.org/wp-content/uploads/2026/04/Night_Market.webp
END:VEVENT
END:VCALENDAR