BEGIN:VCALENDAR
VERSION:2.0
PRODID:-//Vanquish - ECPv6.15.20//NONSGML v1.0//EN
CALSCALE:GREGORIAN
METHOD:PUBLISH
X-ORIGINAL-URL:https://vanquishguild.org
X-WR-CALDESC:Events for Vanquish
REFRESH-INTERVAL;VALUE=DURATION:PT1H
X-Robots-Tag:noindex
X-PUBLISHED-TTL:PT1H
BEGIN:VTIMEZONE
TZID:America/Indiana/Indianapolis
BEGIN:DAYLIGHT
TZOFFSETFROM:-0500
TZOFFSETTO:-0400
TZNAME:EDT
DTSTART:20250309T070000
END:DAYLIGHT
BEGIN:STANDARD
TZOFFSETFROM:-0400
TZOFFSETTO:-0500
TZNAME:EST
DTSTART:20251102T060000
END:STANDARD
BEGIN:DAYLIGHT
TZOFFSETFROM:-0500
TZOFFSETTO:-0400
TZNAME:EDT
DTSTART:20260308T070000
END:DAYLIGHT
BEGIN:STANDARD
TZOFFSETFROM:-0400
TZOFFSETTO:-0500
TZNAME:EST
DTSTART:20261101T060000
END:STANDARD
BEGIN:DAYLIGHT
TZOFFSETFROM:-0500
TZOFFSETTO:-0400
TZNAME:EDT
DTSTART:20270314T070000
END:DAYLIGHT
BEGIN:STANDARD
TZOFFSETFROM:-0400
TZOFFSETTO:-0500
TZNAME:EST
DTSTART:20271107T060000
END:STANDARD
END:VTIMEZONE
BEGIN:VEVENT
DTSTART;TZID=America/Indiana/Indianapolis:20260324T210000
DTEND;TZID=America/Indiana/Indianapolis:20260324T230000
DTSTAMP:20260423T185656
CREATED:20250518T220256Z
LAST-MODIFIED:20250530T030336Z
UID:10000943-1774386000-1774393200@vanquishguild.org
SUMMARY:SP'zoneD in the DLC
DESCRIPTION:Join CY as he takes you on an adventure through a coordinated zone each week. \n\n\n\nGrab that NEW or VET character\, fill those shot glasses. Fill those beer steins! Or grab that coffee as you embark to collect 16-17 skyshards in a scheduled zone. Along with those Skyshards\, increase your fighters guild skill line by conquering the World Encounters as they move through. And it gets even better… the Public Dungeon within that zone! \n\n\n\nThis is slightly different than the normal SP’zoneD. One week we will tackle the Public Dungeons then next\, Overland and Delves. \n\n\n\nSign ups are not required as auto-invites are done in guild chat. Discord is mandatory to listen\, but not required to talk. We ask all pets be shelved for the time being and to stay on crown. \n\n\n\nThis event is scheduled as a bi-weekly event. \n\n\n\nTYPE “SPD” in Guild Chat for AUTOINVITE when up.
URL:https://vanquishguild.org/event/spzoned-in-the-dlc/2026-03-24/
CATEGORIES:DLC,Incursions,Overland,Public Dungeon,Skyshards,World Boss
ATTACH;FMTTYPE=image/jpeg:https://vanquishguild.org/wp-content/uploads/2025/05/SPZONE-DLC.jpg
END:VEVENT
END:VCALENDAR