BEGIN:VCALENDAR
VERSION:2.0
PRODID:-//Vanquish - ECPv6.15.20//NONSGML v1.0//EN
CALSCALE:GREGORIAN
METHOD:PUBLISH
X-ORIGINAL-URL:https://vanquishguild.org
X-WR-CALDESC:Events for Vanquish
REFRESH-INTERVAL;VALUE=DURATION:PT1H
X-Robots-Tag:noindex
X-PUBLISHED-TTL:PT1H
BEGIN:VTIMEZONE
TZID:America/New_York
BEGIN:DAYLIGHT
TZOFFSETFROM:-0500
TZOFFSETTO:-0400
TZNAME:EDT
DTSTART:20250309T070000
END:DAYLIGHT
BEGIN:STANDARD
TZOFFSETFROM:-0400
TZOFFSETTO:-0500
TZNAME:EST
DTSTART:20251102T060000
END:STANDARD
BEGIN:DAYLIGHT
TZOFFSETFROM:-0500
TZOFFSETTO:-0400
TZNAME:EDT
DTSTART:20260308T070000
END:DAYLIGHT
BEGIN:STANDARD
TZOFFSETFROM:-0400
TZOFFSETTO:-0500
TZNAME:EST
DTSTART:20261101T060000
END:STANDARD
BEGIN:DAYLIGHT
TZOFFSETFROM:-0500
TZOFFSETTO:-0400
TZNAME:EDT
DTSTART:20270314T070000
END:DAYLIGHT
BEGIN:STANDARD
TZOFFSETFROM:-0400
TZOFFSETTO:-0500
TZNAME:EST
DTSTART:20271107T060000
END:STANDARD
END:VTIMEZONE
BEGIN:VEVENT
DTSTART;TZID=America/New_York:20260319T200000
DTEND;TZID=America/New_York:20260319T220000
DTSTAMP:20260423T185656
CREATED:20260314T145703Z
LAST-MODIFIED:20260314T150302Z
UID:10003548-1773950400-1773957600@vanquishguild.org
SUMMARY:Open Vet Hel-Ra Citadel
DESCRIPTION:Gear Requirements: (2) 5-piece sets\, correct enchants/traits\, and at least purple tier for your role.Addons: See our Addons Guide for specific raids.CP: 500 minimum.NOTE: For OPEN Vet Trials\, player must have completed the trial in Normal difficulty. Organizer may recommend gear requirements for Tanks and/or Healers.If we haven’t enough for a trial\, we will find a alternative adventure
URL:https://vanquishguild.org/event/open-vet-hel-ra-citadel/
CATEGORIES:Open Vet,Trials
ATTACH;FMTTYPE=image/jpeg:https://vanquishguild.org/wp-content/uploads/2025/05/HRC-OPENVET.jpg
END:VEVENT
END:VCALENDAR