BEGIN:VCALENDAR
VERSION:2.0
PRODID:-//Vanquish - ECPv6.15.20//NONSGML v1.0//EN
CALSCALE:GREGORIAN
METHOD:PUBLISH
X-WR-CALNAME:Vanquish
X-ORIGINAL-URL:https://vanquishguild.org
X-WR-CALDESC:Events for Vanquish
REFRESH-INTERVAL;VALUE=DURATION:PT1H
X-Robots-Tag:noindex
X-PUBLISHED-TTL:PT1H
BEGIN:VTIMEZONE
TZID:America/Indiana/Indianapolis
BEGIN:DAYLIGHT
TZOFFSETFROM:-0500
TZOFFSETTO:-0400
TZNAME:EDT
DTSTART:20250309T070000
END:DAYLIGHT
BEGIN:STANDARD
TZOFFSETFROM:-0400
TZOFFSETTO:-0500
TZNAME:EST
DTSTART:20251102T060000
END:STANDARD
BEGIN:DAYLIGHT
TZOFFSETFROM:-0500
TZOFFSETTO:-0400
TZNAME:EDT
DTSTART:20260308T070000
END:DAYLIGHT
BEGIN:STANDARD
TZOFFSETFROM:-0400
TZOFFSETTO:-0500
TZNAME:EST
DTSTART:20261101T060000
END:STANDARD
BEGIN:DAYLIGHT
TZOFFSETFROM:-0500
TZOFFSETTO:-0400
TZNAME:EDT
DTSTART:20270314T070000
END:DAYLIGHT
BEGIN:STANDARD
TZOFFSETFROM:-0400
TZOFFSETTO:-0500
TZNAME:EST
DTSTART:20271107T060000
END:STANDARD
END:VTIMEZONE
BEGIN:VEVENT
DTSTART;TZID=America/Indiana/Indianapolis:20260315T120000
DTEND;TZID=America/Indiana/Indianapolis:20260315T133000
DTSTAMP:20260423T184822
CREATED:20260228T211552Z
LAST-MODIFIED:20260228T211556Z
UID:10000486-1773576000-1773581400@vanquishguild.org
SUMMARY:World Events
DESCRIPTION:Grab your coffee and head out with your fellow Vanquish guildmates for 1.5 hours of World Events. We will be rotating every other week; taking quests\, grabbing those coffers\, and leaving daedra in the dust. There are 9 World Events in ESO: \n\n\n\n\nDark Anchors\n\n\n\nAbyssal Geysers\n\n\n\nDragonscours\n\n\n\nHarrowstorms\n\n\n\nOblivion Portals\n\n\n\nVolcanic Vents\n\n\n\nBastion Nymic\n\n\n\nMirrormoor Incursions\n\n\n\nSiege Camps & World Bosses\n\n\n\n\nOpen to any level and/or experience. Discord required. TYPE “WE” in guild chat for auto-invite prior to start.
URL:https://vanquishguild.org/event/world-events-2/2026-03-15/
CATEGORIES:Incursions,Overland
ATTACH;FMTTYPE=image/png:https://vanquishguild.org/wp-content/uploads/2025/05/WORLD_EVENTS.png
END:VEVENT
BEGIN:VEVENT
DTSTART;TZID=America/Indiana/Indianapolis:20260315T200000
DTEND;TZID=America/Indiana/Indianapolis:20260315T220000
DTSTAMP:20260423T184822
CREATED:20250518T213131Z
LAST-MODIFIED:20250530T203011Z
UID:10000605-1773604800-1773612000@vanquishguild.org
SUMMARY:Imperial City Runs
DESCRIPTION:Get together as a group for runs in either the Districts or Sewers (or both) for Telvar\, bosses\, and smashing stupid elves. We will form up 15 min prior to the event. \n\n\n\nREQUIREMENTS: Must be at least level 10 and have a Daggerfall Covenant toon. \n\n\n\nDestination and Campaign will be determined at time of event.
URL:https://vanquishguild.org/event/imperial-city-runs/2026-03-15/
CATEGORIES:Imperial City,PVP
ATTACH;FMTTYPE=image/png:https://vanquishguild.org/wp-content/uploads/2025/05/IMPERIAL_CITY.png
END:VEVENT
END:VCALENDAR