BEGIN:VCALENDAR
VERSION:2.0
PRODID:-//Vanquish - ECPv6.15.20//NONSGML v1.0//EN
CALSCALE:GREGORIAN
METHOD:PUBLISH
X-WR-CALNAME:Vanquish
X-ORIGINAL-URL:https://vanquishguild.org
X-WR-CALDESC:Events for Vanquish
REFRESH-INTERVAL;VALUE=DURATION:PT1H
X-Robots-Tag:noindex
X-PUBLISHED-TTL:PT1H
BEGIN:VTIMEZONE
TZID:America/Indiana/Indianapolis
BEGIN:DAYLIGHT
TZOFFSETFROM:-0500
TZOFFSETTO:-0400
TZNAME:EDT
DTSTART:20250309T070000
END:DAYLIGHT
BEGIN:STANDARD
TZOFFSETFROM:-0400
TZOFFSETTO:-0500
TZNAME:EST
DTSTART:20251102T060000
END:STANDARD
BEGIN:DAYLIGHT
TZOFFSETFROM:-0500
TZOFFSETTO:-0400
TZNAME:EDT
DTSTART:20260308T070000
END:DAYLIGHT
BEGIN:STANDARD
TZOFFSETFROM:-0400
TZOFFSETTO:-0500
TZNAME:EST
DTSTART:20261101T060000
END:STANDARD
BEGIN:DAYLIGHT
TZOFFSETFROM:-0500
TZOFFSETTO:-0400
TZNAME:EDT
DTSTART:20270314T070000
END:DAYLIGHT
BEGIN:STANDARD
TZOFFSETFROM:-0400
TZOFFSETTO:-0500
TZNAME:EST
DTSTART:20271107T060000
END:STANDARD
END:VTIMEZONE
BEGIN:VEVENT
DTSTART;TZID=America/Indiana/Indianapolis:20260309T210000
DTEND;TZID=America/Indiana/Indianapolis:20260309T230000
DTSTAMP:20260423T184620
CREATED:20250518T214809Z
LAST-MODIFIED:20250530T030610Z
UID:10000701-1773090000-1773097200@vanquishguild.org
SUMMARY:Monday Night Madness
DESCRIPTION:Join Cy and your guildies for the slaying of bosses\, taking of XP and Loots …. LOTSA LOOTS! ALL LEVELS….all factions …. ALL FUN \n\n\n\nCovering DLC World Boss Dailies including Orsinium\, Elsweyr\, Murkmire\, Summerset\, Hew’s Bane/Gold Coast\, Clockwork\, Morrowind and Imperial City (DC Faction Only). Invites are done in guild chat with auto-invite. \n\n\n\nSign ups are not necessary for this event. Just be in game.Approx 1.5 hours running. \n\n\n\nTYPE “MNM” in Guild Chat when AUTOINVITE is up.
URL:https://vanquishguild.org/event/monday-night-madness/2026-03-09/
CATEGORIES:DLC,Overland,World Boss
ATTACH;FMTTYPE=image/png:https://vanquishguild.org/wp-content/uploads/2025/05/MNM.png
END:VEVENT
END:VCALENDAR