BEGIN:VCALENDAR
VERSION:2.0
PRODID:-//Vanquish - ECPv6.15.20//NONSGML v1.0//EN
CALSCALE:GREGORIAN
METHOD:PUBLISH
X-WR-CALNAME:Vanquish
X-ORIGINAL-URL:https://vanquishguild.org
X-WR-CALDESC:Events for Vanquish
REFRESH-INTERVAL;VALUE=DURATION:PT1H
X-Robots-Tag:noindex
X-PUBLISHED-TTL:PT1H
BEGIN:VTIMEZONE
TZID:America/Indiana/Indianapolis
BEGIN:DAYLIGHT
TZOFFSETFROM:-0500
TZOFFSETTO:-0400
TZNAME:EDT
DTSTART:20250309T070000
END:DAYLIGHT
BEGIN:STANDARD
TZOFFSETFROM:-0400
TZOFFSETTO:-0500
TZNAME:EST
DTSTART:20251102T060000
END:STANDARD
BEGIN:DAYLIGHT
TZOFFSETFROM:-0500
TZOFFSETTO:-0400
TZNAME:EDT
DTSTART:20260308T070000
END:DAYLIGHT
BEGIN:STANDARD
TZOFFSETFROM:-0400
TZOFFSETTO:-0500
TZNAME:EST
DTSTART:20261101T060000
END:STANDARD
BEGIN:DAYLIGHT
TZOFFSETFROM:-0500
TZOFFSETTO:-0400
TZNAME:EDT
DTSTART:20270314T070000
END:DAYLIGHT
BEGIN:STANDARD
TZOFFSETFROM:-0400
TZOFFSETTO:-0500
TZNAME:EST
DTSTART:20271107T060000
END:STANDARD
END:VTIMEZONE
BEGIN:VEVENT
DTSTART;TZID=America/Indiana/Indianapolis:20260306T210000
DTEND;TZID=America/Indiana/Indianapolis:20260306T230000
DTSTAMP:20260423T184740
CREATED:20250530T031352Z
LAST-MODIFIED:20250530T031356Z
UID:10001563-1772830800-1772838000@vanquishguild.org
SUMMARY:FRIDAY NIGHT FIGHTS!
DESCRIPTION:Folks\, this is a social run\, this is a fun run\, this is a DRUNKEN run but you must put in the effort to know the basics of PvP and Cyro! 15 mins on Google and 15 mins in game and you are good to go! FNF is not here to hold your hand! We are here however\, to hold your hair at the end of the night when riding the porcelain pony! This is a two hour event. \n\n\n\nThis event is hosted by DanTheMann\, our very own PvP officer\, although many of our members can step in to lead it when he is unavailable they can’t bring the same level of “Dan’isms” to the event. This is the Vanquish guilds PvP and drinking night\, and we take the drinking much more seriously then we take the PvP. Mostly we go where Dan tells us to go and then we try not to get bombed while cursing because our drinks are empty. It is a fun night of “anything goes’ with lots of PEEPS to be had with your guild-mates. Requirements for this event are that you run a DC character and are level 10 or above (IF we are visiting Imperial City you will need that DLC). You can get instruction before the event on which campaign we will use and how to enter Cyrodiil if you’ve never been there\, just ask in guild chat or on Discord. This is the night for those that don’t really like PvP but would like to earn the AP points to cap the Alliance skill lines or those members interested in learning about PvP in a relaxed environment. Come on out and have a PEEP on Dan. \n\n\n\nIf you have always wanted to make your enemies cower in fear and then run in terror when they see you coming……this event is not for you! However\, if you want to drink with your guild mates and be talked about in guild chat for all the Friday nights to come in whatever game we are playing…bring your shitty pony and join the fun! I do not promise you glory\, but I promise you a great group of people who like to drink and shenanigans…..I promise you shenanigans. \n\n\n\nSign ups are not required for this event. \n\n\n\nTYPE “FNF” in Guild Chat for AUTOINVITE. MUST BE IN CYRODIIL.Due to many groups\, may be FN1\, FN2\, FN3\, FN4\, or FN5.
URL:https://vanquishguild.org/event/friday-night-fights/2026-03-06/
CATEGORIES:Cyrodiil,PVP
ATTACH;FMTTYPE=image/png:https://vanquishguild.org/wp-content/uploads/2025/05/FNF.png
END:VEVENT
BEGIN:VEVENT
DTSTART;TZID=America/Indiana/Indianapolis:20260306T233000
DTEND;TZID=America/Indiana/Indianapolis:20260306T235900
DTSTAMP:20260423T184740
CREATED:20260228T194318Z
LAST-MODIFIED:20260228T194322Z
UID:10003406-1772839800-1772841540@vanquishguild.org
SUMMARY:Drunken Trials
DESCRIPTION:Trial selected by suggestion. A normal trial run where sobriety is discouraged. The raid leader will be drunk so you should be as well 🙂 \n\n\n\nSeriously\, sober people are welcome. Takes place after Friday Night Fights. The trial we run isn’t important\, the camaraderie of the players is what makes this event. \n\n\n\nInvites start 15 min prior to start time.  Please be on your character and ready for invite so we can start on time.
URL:https://vanquishguild.org/event/drunken-trials-19/
CATEGORIES:Normal,Trials
ATTACH;FMTTYPE=image/png:https://vanquishguild.org/wp-content/uploads/2025/05/FRIDAY_DRUNKEN_TRIALS.png
END:VEVENT
END:VCALENDAR