BEGIN:VCALENDAR
VERSION:2.0
PRODID:-//Vanquish - ECPv6.15.20//NONSGML v1.0//EN
CALSCALE:GREGORIAN
METHOD:PUBLISH
X-WR-CALNAME:Vanquish
X-ORIGINAL-URL:https://vanquishguild.org
X-WR-CALDESC:Events for Vanquish
REFRESH-INTERVAL;VALUE=DURATION:PT1H
X-Robots-Tag:noindex
X-PUBLISHED-TTL:PT1H
BEGIN:VTIMEZONE
TZID:America/New_York
BEGIN:DAYLIGHT
TZOFFSETFROM:-0500
TZOFFSETTO:-0400
TZNAME:EDT
DTSTART:20250309T070000
END:DAYLIGHT
BEGIN:STANDARD
TZOFFSETFROM:-0400
TZOFFSETTO:-0500
TZNAME:EST
DTSTART:20251102T060000
END:STANDARD
BEGIN:DAYLIGHT
TZOFFSETFROM:-0500
TZOFFSETTO:-0400
TZNAME:EDT
DTSTART:20260308T070000
END:DAYLIGHT
BEGIN:STANDARD
TZOFFSETFROM:-0400
TZOFFSETTO:-0500
TZNAME:EST
DTSTART:20261101T060000
END:STANDARD
BEGIN:DAYLIGHT
TZOFFSETFROM:-0500
TZOFFSETTO:-0400
TZNAME:EDT
DTSTART:20270314T070000
END:DAYLIGHT
BEGIN:STANDARD
TZOFFSETFROM:-0400
TZOFFSETTO:-0500
TZNAME:EST
DTSTART:20271107T060000
END:STANDARD
END:VTIMEZONE
BEGIN:VEVENT
DTSTART;TZID=America/New_York:20260305T203000
DTEND;TZID=America/New_York:20260305T223000
DTSTAMP:20260423T184739
CREATED:20250614T194234Z
LAST-MODIFIED:20250614T194237Z
UID:10002773-1772742600-1772749800@vanquishguild.org
SUMMARY:Guard & Leadership Core Activities
DESCRIPTION:First Thursday of the month\, the Vanquish Guard & Leadership Core spend the evening communicating and team building while enjoying ESO.
URL:https://vanquishguild.org/event/guard-leadership-core-activities/2026-03-05/
CATEGORIES:Meeting,Special Event
ATTACH;FMTTYPE=image/png:https://vanquishguild.org/wp-content/uploads/2025/05/GUARD-OFFICER-NIGHT.png
END:VEVENT
END:VCALENDAR