BEGIN:VCALENDAR
VERSION:2.0
PRODID:-//Vanquish - ECPv6.15.20//NONSGML v1.0//EN
CALSCALE:GREGORIAN
METHOD:PUBLISH
X-WR-CALNAME:Vanquish
X-ORIGINAL-URL:https://vanquishguild.org
X-WR-CALDESC:Events for Vanquish
REFRESH-INTERVAL;VALUE=DURATION:PT1H
X-Robots-Tag:noindex
X-PUBLISHED-TTL:PT1H
BEGIN:VTIMEZONE
TZID:America/Indiana/Indianapolis
BEGIN:DAYLIGHT
TZOFFSETFROM:-0500
TZOFFSETTO:-0400
TZNAME:EDT
DTSTART:20250309T070000
END:DAYLIGHT
BEGIN:STANDARD
TZOFFSETFROM:-0400
TZOFFSETTO:-0500
TZNAME:EST
DTSTART:20251102T060000
END:STANDARD
BEGIN:DAYLIGHT
TZOFFSETFROM:-0500
TZOFFSETTO:-0400
TZNAME:EDT
DTSTART:20260308T070000
END:DAYLIGHT
BEGIN:STANDARD
TZOFFSETFROM:-0400
TZOFFSETTO:-0500
TZNAME:EST
DTSTART:20261101T060000
END:STANDARD
BEGIN:DAYLIGHT
TZOFFSETFROM:-0500
TZOFFSETTO:-0400
TZNAME:EDT
DTSTART:20270314T070000
END:DAYLIGHT
BEGIN:STANDARD
TZOFFSETFROM:-0400
TZOFFSETTO:-0500
TZNAME:EST
DTSTART:20271107T060000
END:STANDARD
END:VTIMEZONE
BEGIN:VEVENT
DTSTART;TZID=America/Indiana/Indianapolis:20260301T120000
DTEND;TZID=America/Indiana/Indianapolis:20260301T133000
DTSTAMP:20260423T184739
CREATED:20260228T211552Z
LAST-MODIFIED:20260228T211556Z
UID:10000485-1772366400-1772371800@vanquishguild.org
SUMMARY:World Events
DESCRIPTION:Grab your coffee and head out with your fellow Vanquish guildmates for 1.5 hours of World Events. We will be rotating every other week; taking quests\, grabbing those coffers\, and leaving daedra in the dust. There are 9 World Events in ESO: \n\n\n\n\nDark Anchors\n\n\n\nAbyssal Geysers\n\n\n\nDragonscours\n\n\n\nHarrowstorms\n\n\n\nOblivion Portals\n\n\n\nVolcanic Vents\n\n\n\nBastion Nymic\n\n\n\nMirrormoor Incursions\n\n\n\nSiege Camps & World Bosses\n\n\n\n\nOpen to any level and/or experience. Discord required. TYPE “WE” in guild chat for auto-invite prior to start.
URL:https://vanquishguild.org/event/world-events-2/2026-03-01/
CATEGORIES:Incursions,Overland
ATTACH;FMTTYPE=image/png:https://vanquishguild.org/wp-content/uploads/2025/05/WORLD_EVENTS.png
END:VEVENT
BEGIN:VEVENT
DTSTART;TZID=America/Indiana/Indianapolis:20260301T200000
DTEND;TZID=America/Indiana/Indianapolis:20260301T220000
DTSTAMP:20260423T184739
CREATED:20260201T212038Z
LAST-MODIFIED:20260201T212040Z
UID:10000413-1772395200-1772402400@vanquishguild.org
SUMMARY:the Game of Fate
DESCRIPTION:The Game of Fate is an original Vanquish event created by Vanquish. \n\n\n\nWelcome to the Game of Fate. To read about the game\, how it works\, the dice\, maps\, etc.. please see our Official Guide on our website HERE. (Under the MISC tab on the top navigation.) \n\n\n\nBecause housing has a limit\, and the game having a maximum of 20 players at a time\, we are asking for SIGN UPS. \n\n\n\nIn the Game of Fate\, you’ll go around the playing board gathering useful objects including Health Potions\, Health Regeneration Food\, Resurrection Scrolls\, and Soul Gems. You may uncover treasure chests\, complete quests\, and become a vampire or werewolf. You will combat enemies and work together to defeat Trial Bosses. Stendaar can give you the Divine Blessing\, which increases your attack power. Arkay can glance at you and give you a health bonus as you level up. You may also land on a FATE Stone\, which could change the direction of the game for you\, a teammate\, or an opponent. With the possibility of death\, being put into the Stocks\, and FATE Stones\, we say in the Game of Fate\, “What is\, may not be”.
URL:https://vanquishguild.org/event/the-game-of-fate-3/2026-03-01/
CATEGORIES:Meeting
ATTACH;FMTTYPE=image/png:https://vanquishguild.org/wp-content/uploads/2025/05/GAME_OF_FATE.png
END:VEVENT
END:VCALENDAR